BEGIN:VCALENDAR
VERSION:2.0
PRODID:-//Al Habib Ahmad bin Novel bin Salim Jindan - ECPv5.16.1.1//NONSGML v1.0//EN
CALSCALE:GREGORIAN
METHOD:PUBLISH
X-WR-CALNAME:Al Habib Ahmad bin Novel bin Salim Jindan
X-ORIGINAL-URL:https://www.alhabibahmadnoveljindan.org
X-WR-CALDESC:Events for Al Habib Ahmad bin Novel bin Salim Jindan
BEGIN:VTIMEZONE
TZID:Asia/Krasnoyarsk
BEGIN:STANDARD
TZOFFSETFROM:+0800
TZOFFSETTO:+0700
TZNAME:+07
DTSTART:20141025T180000
END:STANDARD
END:VTIMEZONE
BEGIN:VEVENT
DTSTART;TZID=Asia/Krasnoyarsk:20141116T150000
DTEND;TZID=Asia/Krasnoyarsk:20141116T210000
DTSTAMP:20260422T105710
CREATED:20141015T234036Z
LAST-MODIFIED:20141015T234036Z
UID:14934-1416150000-1416171600@www.alhabibahmadnoveljindan.org
SUMMARY:Tabligh Akbar perayaan Asyura bersama Al Habib Umar bin Muhammad bin Salim bin Hafidz
DESCRIPTION:Tabligh Akbar perayaan Asyura bersama Al Habib Umar bin Muhammad bin Salim bin Hafidz
URL:https://www.alhabibahmadnoveljindan.org/event/tabligh-akbar-perayaan-asyura-bersama-al-habib-umar-bin-muhammad-bin-salim-bin-hafidz/
LOCATION:Yayasan Al Fachriyah\, Jalan Habib Novel\, Tengerang\, banten\, 15154\, Indonesia
END:VEVENT
END:VCALENDAR