BEGIN:VCALENDAR
VERSION:2.0
PRODID:-//Al Habib Ahmad bin Novel bin Salim Jindan - ECPv5.16.1.1//NONSGML v1.0//EN
CALSCALE:GREGORIAN
METHOD:PUBLISH
X-WR-CALNAME:Al Habib Ahmad bin Novel bin Salim Jindan
X-ORIGINAL-URL:https://www.alhabibahmadnoveljindan.org
X-WR-CALDESC:Events for Al Habib Ahmad bin Novel bin Salim Jindan
BEGIN:VTIMEZONE
TZID:Asia/Krasnoyarsk
BEGIN:STANDARD
TZOFFSETFROM:+0800
TZOFFSETTO:+0700
TZNAME:+07
DTSTART:20141025T180000
END:STANDARD
END:VTIMEZONE
BEGIN:VEVENT
DTSTART;TZID=Asia/Krasnoyarsk:20141115T180000
DTEND;TZID=Asia/Krasnoyarsk:20141115T210000
DTSTAMP:20260422T164011
CREATED:20141015T233720Z
LAST-MODIFIED:20141015T233720Z
UID:14927-1416074400-1416085200@www.alhabibahmadnoveljindan.org
SUMMARY:Rauhah Haul Asy Syeikh Abu Bakar bin Salim bersama Al Habib Umar bin Muhammad bin Salim bin Hafidz
DESCRIPTION:Rauhah Haul Asy Syeikh Abu Bakar bin Salim bersama Al Habib Umar bin Muhammad bin Salim bin Hafidz
URL:https://www.alhabibahmadnoveljindan.org/event/rauhah-haul-asy-syeikh-abu-bakar-bin-salim-bersama-al-habib-umar-bin-muhammad-bin-salim-bin-hafidz/
LOCATION:Gedung Dalail Khoirat Cidodol\, Jalan Komplek Hankam Kebayoran Lama\, DKI Jakarta\, DKI Jakarta\, 12220\, Indonesia
END:VEVENT
END:VCALENDAR