BEGIN:VCALENDAR
VERSION:2.0
PRODID:-//Al Habib Ahmad bin Novel bin Salim Jindan - ECPv5.16.1.1//NONSGML v1.0//EN
CALSCALE:GREGORIAN
METHOD:PUBLISH
X-WR-CALNAME:Al Habib Ahmad bin Novel bin Salim Jindan
X-ORIGINAL-URL:https://www.alhabibahmadnoveljindan.org
X-WR-CALDESC:Events for Al Habib Ahmad bin Novel bin Salim Jindan
BEGIN:VTIMEZONE
TZID:Asia/Krasnoyarsk
BEGIN:STANDARD
TZOFFSETFROM:+0700
TZOFFSETTO:+0700
TZNAME:+07
DTSTART:20150101T000000
END:STANDARD
END:VTIMEZONE
BEGIN:VEVENT
DTSTART;TZID=Asia/Krasnoyarsk:20151114T160000
DTEND;TZID=Asia/Krasnoyarsk:20151114T170000
DTSTAMP:20260423T081929
CREATED:20151107T100257Z
LAST-MODIFIED:20151107T100355Z
UID:19190-1447516800-1447520400@www.alhabibahmadnoveljindan.org
SUMMARY:Rauhah Haul As Syaikh Abu Bakar bin Salim
DESCRIPTION:Majelis Rauhah dalam Rangkaian Haul As Syaikh Abu Bakar bin Salim
URL:https://www.alhabibahmadnoveljindan.org/event/rauhah-haul-as-syaikh-abu-bakar-bin-salim/
LOCATION:Gedung Dalail Khairat\, Jl. Kompleks Hankam\, Cidodol\, Kebayoran Lama\, Jakarta Selatan \, DKI Jakarta\, Indonesia
END:VEVENT
END:VCALENDAR