BEGIN:VCALENDAR
VERSION:2.0
PRODID:-//Al Habib Ahmad bin Novel bin Salim Jindan - ECPv5.16.1.1//NONSGML v1.0//EN
CALSCALE:GREGORIAN
METHOD:PUBLISH
X-WR-CALNAME:Al Habib Ahmad bin Novel bin Salim Jindan
X-ORIGINAL-URL:https://www.alhabibahmadnoveljindan.org
X-WR-CALDESC:Events for Al Habib Ahmad bin Novel bin Salim Jindan
BEGIN:VTIMEZONE
TZID:Asia/Krasnoyarsk
BEGIN:STANDARD
TZOFFSETFROM:+0800
TZOFFSETTO:+0700
TZNAME:+07
DTSTART:20141025T180000
END:STANDARD
END:VTIMEZONE
BEGIN:VEVENT
DTSTART;TZID=Asia/Krasnoyarsk:20141025T213000
DTEND;TZID=Asia/Krasnoyarsk:20141025T220000
DTSTAMP:20260424T074706
CREATED:20141018T103320Z
LAST-MODIFIED:20141018T103320Z
UID:15137-1414272600-1414274400@www.alhabibahmadnoveljindan.org
SUMMARY:Perayaan Tahun Baru Hijriyah 1436 H
DESCRIPTION:ACARA perayaan Tahun baru Hijriyah di Masjid Al Mubarakah Seskoal – Acara Untuk Umum
URL:https://www.alhabibahmadnoveljindan.org/event/perayaan-tahun-baru-hijriyah-1436-h/
LOCATION:SESKOAL\,  Jalan Al Mubarok 2 Pesanggrahan\, Jakarta Selatan\, DKI Jakarta\, 12250\, Indonesia
END:VEVENT
END:VCALENDAR