BEGIN:VCALENDAR
VERSION:2.0
PRODID:-//Al Habib Ahmad bin Novel bin Salim Jindan - ECPv5.16.1.1//NONSGML v1.0//EN
CALSCALE:GREGORIAN
METHOD:PUBLISH
X-WR-CALNAME:Al Habib Ahmad bin Novel bin Salim Jindan
X-ORIGINAL-URL:https://www.alhabibahmadnoveljindan.org
X-WR-CALDESC:Events for Al Habib Ahmad bin Novel bin Salim Jindan
BEGIN:VTIMEZONE
TZID:Asia/Krasnoyarsk
BEGIN:STANDARD
TZOFFSETFROM:+0700
TZOFFSETTO:+0700
TZNAME:+07
DTSTART:20150101T000000
END:STANDARD
END:VTIMEZONE
BEGIN:VEVENT
DTSTART;TZID=Asia/Krasnoyarsk:20150521T200000
DTEND;TZID=Asia/Krasnoyarsk:20150521T220000
DTSTAMP:20260421T213510
CREATED:20150509T225454Z
LAST-MODIFIED:20150509T225454Z
UID:18028-1432238400-1432245600@www.alhabibahmadnoveljindan.org
SUMMARY:Perayaan Isra Mi'raj di MT Fachrul Wujud
DESCRIPTION:Perayaan Isra Mi’raj Nabi Muhammad SAW di MT Fachrul Wujud
URL:https://www.alhabibahmadnoveljindan.org/event/perayaan-isra-miraj-di-mt-fachrul-wujud/
LOCATION:Majelis Fachrul Wujud\, Gang 2 RT 02/04 Dukuh Keceh Bandungrejo Kalinyamatan\, Jepara\, Jawa Tengah\, Indonesia
END:VEVENT
END:VCALENDAR