BEGIN:VCALENDAR
VERSION:2.0
PRODID:-//Al Habib Ahmad bin Novel bin Salim Jindan - ECPv5.16.1.1//NONSGML v1.0//EN
CALSCALE:GREGORIAN
METHOD:PUBLISH
X-WR-CALNAME:Al Habib Ahmad bin Novel bin Salim Jindan
X-ORIGINAL-URL:https://www.alhabibahmadnoveljindan.org
X-WR-CALDESC:Events for Al Habib Ahmad bin Novel bin Salim Jindan
BEGIN:VTIMEZONE
TZID:Asia/Krasnoyarsk
BEGIN:STANDARD
TZOFFSETFROM:+0700
TZOFFSETTO:+0700
TZNAME:+07
DTSTART:20150101T000000
END:STANDARD
END:VTIMEZONE
BEGIN:VEVENT
DTSTART;TZID=Asia/Krasnoyarsk:20151115T150000
DTEND;TZID=Asia/Krasnoyarsk:20151115T210000
DTSTAMP:20260423T132557
CREATED:20151022T160825Z
LAST-MODIFIED:20151102T120206Z
UID:19052-1447599600-1447621200@www.alhabibahmadnoveljindan.org
SUMMARY:Tabligh Akbar Rangkaian Haul Asy Syaikh Abu Bakar bin Salim
DESCRIPTION:Tabligh Akbar Rangkaian Haul Asy Syaikh Abu Bakar bin Salim di Alfachriyah Acara Untuk Umum
URL:https://www.alhabibahmadnoveljindan.org/event/perayaan-asyura-dan-tabligh-akbar-bersama-alhabib-umar-bin-hafidz/
LOCATION:Yayasan Al Fachriyah\, Jalan Habib Novel\, Tengerang\, banten\, 15154\, Indonesia
END:VEVENT
END:VCALENDAR