BEGIN:VCALENDAR
VERSION:2.0
PRODID:-//Al Habib Ahmad bin Novel bin Salim Jindan - ECPv5.16.1.1//NONSGML v1.0//EN
CALSCALE:GREGORIAN
METHOD:PUBLISH
X-WR-CALNAME:Al Habib Ahmad bin Novel bin Salim Jindan
X-ORIGINAL-URL:https://www.alhabibahmadnoveljindan.org
X-WR-CALDESC:Events for Al Habib Ahmad bin Novel bin Salim Jindan
BEGIN:VTIMEZONE
TZID:Asia/Krasnoyarsk
BEGIN:STANDARD
TZOFFSETFROM:+0800
TZOFFSETTO:+0700
TZNAME:+07
DTSTART:20141025T180000
END:STANDARD
END:VTIMEZONE
BEGIN:VEVENT
DTSTART;TZID=Asia/Krasnoyarsk:20141028T200000
DTEND;TZID=Asia/Krasnoyarsk:20141028T213000
DTSTAMP:20260424T024725
CREATED:20141015T093854Z
LAST-MODIFIED:20141015T093854Z
UID:14850-1414526400-1414531800@www.alhabibahmadnoveljindan.org
SUMMARY:Pengajian Malam Rabu di Al Fachriyah
DESCRIPTION:Kajian kitab Risalah Mu’awanah – Untuk Umum Laki dan Perempuan – Live Radio Streaming
URL:https://www.alhabibahmadnoveljindan.org/event/pengajian-malam-rabu-di-al-fachriyah-2/
LOCATION:Yayasan Al Fachriyah\, Jalan Habib Novel\, Tengerang\, banten\, 15154\, Indonesia
END:VEVENT
END:VCALENDAR