BEGIN:VCALENDAR
VERSION:2.0
PRODID:-//Al Habib Ahmad bin Novel bin Salim Jindan - ECPv5.16.1.1//NONSGML v1.0//EN
CALSCALE:GREGORIAN
METHOD:PUBLISH
X-WR-CALNAME:Al Habib Ahmad bin Novel bin Salim Jindan
X-ORIGINAL-URL:https://www.alhabibahmadnoveljindan.org
X-WR-CALDESC:Events for Al Habib Ahmad bin Novel bin Salim Jindan
BEGIN:VTIMEZONE
TZID:Asia/Krasnoyarsk
BEGIN:STANDARD
TZOFFSETFROM:+0700
TZOFFSETTO:+0700
TZNAME:+07
DTSTART:20160101T000000
END:STANDARD
END:VTIMEZONE
BEGIN:VEVENT
DTSTART;TZID=Asia/Krasnoyarsk:20160325T210000
DTEND;TZID=Asia/Krasnoyarsk:20160325T220000
DTSTAMP:20260422T091254
CREATED:20160227T025501Z
LAST-MODIFIED:20160227T025501Z
UID:20426-1458939600-1458943200@www.alhabibahmadnoveljindan.org
SUMMARY:Maulid Masjid Nur Hidayatus Sholihin
DESCRIPTION:Maulid Masjid Nur Hidayatus Sholihin
URL:https://www.alhabibahmadnoveljindan.org/event/maulid-masjid-nur-hidayatus-sholihin/
LOCATION:Masjid Nur Hidayatus Sholihin\, Jl. T.B. Simatupang No.7A\,\, Jakarta Selatan\, DKI Jakarta\, 12560\, Indonesia
END:VEVENT
END:VCALENDAR