BEGIN:VCALENDAR
VERSION:2.0
PRODID:-//Al Habib Ahmad bin Novel bin Salim Jindan - ECPv5.16.1.1//NONSGML v1.0//EN
CALSCALE:GREGORIAN
METHOD:PUBLISH
X-WR-CALNAME:Al Habib Ahmad bin Novel bin Salim Jindan
X-ORIGINAL-URL:https://www.alhabibahmadnoveljindan.org
X-WR-CALDESC:Events for Al Habib Ahmad bin Novel bin Salim Jindan
BEGIN:VTIMEZONE
TZID:Asia/Krasnoyarsk
BEGIN:STANDARD
TZOFFSETFROM:+0700
TZOFFSETTO:+0700
TZNAME:+07
DTSTART:20150101T000000
END:STANDARD
END:VTIMEZONE
BEGIN:VEVENT
DTSTART;TZID=Asia/Krasnoyarsk:20151220T130000
DTEND;TZID=Asia/Krasnoyarsk:20151220T160000
DTSTAMP:20260426T054435
CREATED:20151107T053345Z
LAST-MODIFIED:20151107T053345Z
UID:19169-1450616400-1450627200@www.alhabibahmadnoveljindan.org
SUMMARY:Maulid dikediaman hb Anis Al Attas
DESCRIPTION:Maulid dikediaman hb Anis Al Attas (Pelukis)
URL:https://www.alhabibahmadnoveljindan.org/event/maulid-dikediaman-hb-anis-al-attas/
LOCATION:Kediaman hb Anis Al Attas\, Bumi Ayu\, Malang\, Jawa Timur\, Indonesia
END:VEVENT
END:VCALENDAR