BEGIN:VCALENDAR
VERSION:2.0
PRODID:-//Al Habib Ahmad bin Novel bin Salim Jindan - ECPv5.16.1.1//NONSGML v1.0//EN
CALSCALE:GREGORIAN
METHOD:PUBLISH
X-WR-CALNAME:Al Habib Ahmad bin Novel bin Salim Jindan
X-ORIGINAL-URL:https://www.alhabibahmadnoveljindan.org
X-WR-CALDESC:Events for Al Habib Ahmad bin Novel bin Salim Jindan
BEGIN:VTIMEZONE
TZID:Asia/Krasnoyarsk
BEGIN:STANDARD
TZOFFSETFROM:+0700
TZOFFSETTO:+0700
TZNAME:+07
DTSTART:20150101T000000
END:STANDARD
END:VTIMEZONE
BEGIN:VEVENT
DTSTART;TZID=Asia/Krasnoyarsk:20151213T120000
DTEND;TZID=Asia/Krasnoyarsk:20151213T140000
DTSTAMP:20260425T102509
CREATED:20151107T034529Z
LAST-MODIFIED:20151201T105041Z
UID:19156-1450008000-1450015200@www.alhabibahmadnoveljindan.org
SUMMARY:Maulid dikediaman Habib Soleh ba Aqil
DESCRIPTION:Maulid dikediaman Habib Soleh ba Aqil  Ulujami
URL:https://www.alhabibahmadnoveljindan.org/event/maulid-dikediaman-habib-soleh-ba-aqil/
LOCATION:Kediaman Hb Soleh ba Aqil\, Jalan Gang H. Buang Ulujami\, Jakarta Selatan\, DKI Jakarta\, Indonesia
END:VEVENT
END:VCALENDAR