BEGIN:VCALENDAR
VERSION:2.0
PRODID:-//Al Habib Ahmad bin Novel bin Salim Jindan - ECPv5.16.1.1//NONSGML v1.0//EN
CALSCALE:GREGORIAN
METHOD:PUBLISH
X-WR-CALNAME:Al Habib Ahmad bin Novel bin Salim Jindan
X-ORIGINAL-URL:https://www.alhabibahmadnoveljindan.org
X-WR-CALDESC:Events for Al Habib Ahmad bin Novel bin Salim Jindan
BEGIN:VTIMEZONE
TZID:Asia/Krasnoyarsk
BEGIN:STANDARD
TZOFFSETFROM:+0700
TZOFFSETTO:+0700
TZNAME:+07
DTSTART:20150101T000000
END:STANDARD
END:VTIMEZONE
BEGIN:VEVENT
DTSTART;TZID=Asia/Krasnoyarsk:20151216T200000
DTEND;TZID=Asia/Krasnoyarsk:20151216T213000
DTSTAMP:20260425T173431
CREATED:20151107T035115Z
LAST-MODIFIED:20151107T035115Z
UID:19158-1450296000-1450301400@www.alhabibahmadnoveljindan.org
SUMMARY:Maulid di Majelis Taklim Muslim Munir
DESCRIPTION:Maulid di Majelis Taklim Muslim Munir
URL:https://www.alhabibahmadnoveljindan.org/event/maulid-di-majelis-taklim-muslim-munir/
LOCATION:MT Muslim Munir\, Jalan Prepedan\, Kalideres\, DKI Jakarta\, 11830\, Indonesia
END:VEVENT
END:VCALENDAR