BEGIN:VCALENDAR
VERSION:2.0
PRODID:-//Al Habib Ahmad bin Novel bin Salim Jindan - ECPv5.16.1.1//NONSGML v1.0//EN
CALSCALE:GREGORIAN
METHOD:PUBLISH
X-WR-CALNAME:Al Habib Ahmad bin Novel bin Salim Jindan
X-ORIGINAL-URL:https://www.alhabibahmadnoveljindan.org
X-WR-CALDESC:Events for Al Habib Ahmad bin Novel bin Salim Jindan
BEGIN:VTIMEZONE
TZID:Asia/Krasnoyarsk
BEGIN:STANDARD
TZOFFSETFROM:+0700
TZOFFSETTO:+0700
TZNAME:+07
DTSTART:20150101T000000
END:STANDARD
END:VTIMEZONE
BEGIN:VEVENT
DTSTART;TZID=Asia/Krasnoyarsk:20151219T200000
DTEND;TZID=Asia/Krasnoyarsk:20151219T230000
DTSTAMP:20260426T022105
CREATED:20151107T045657Z
LAST-MODIFIED:20151107T045657Z
UID:19167-1450555200-1450566000@www.alhabibahmadnoveljindan.org
SUMMARY:Maulid di Kediaman KH. Slamet Suaidi
DESCRIPTION:Maulid di Kediaman KH. Slamet Suaidi
URL:https://www.alhabibahmadnoveljindan.org/event/maulid-di-kediaman-kh-slamet-suaidi/
LOCATION:Kediaman KH. Slamet Suaidi\, Purwokerto\, Banyumas\, Jawa Tengah\, Indonesia
END:VEVENT
END:VCALENDAR