BEGIN:VCALENDAR
VERSION:2.0
PRODID:-//Al Habib Ahmad bin Novel bin Salim Jindan - ECPv5.16.1.1//NONSGML v1.0//EN
CALSCALE:GREGORIAN
METHOD:PUBLISH
X-WR-CALNAME:Al Habib Ahmad bin Novel bin Salim Jindan
X-ORIGINAL-URL:https://www.alhabibahmadnoveljindan.org
X-WR-CALDESC:Events for Al Habib Ahmad bin Novel bin Salim Jindan
BEGIN:VTIMEZONE
TZID:Asia/Krasnoyarsk
BEGIN:STANDARD
TZOFFSETFROM:+0700
TZOFFSETTO:+0700
TZNAME:+07
DTSTART:20150101T000000
END:STANDARD
END:VTIMEZONE
BEGIN:VEVENT
DTSTART;TZID=Asia/Krasnoyarsk:20151201T130000
DTEND;TZID=Asia/Krasnoyarsk:20151201T140000
DTSTAMP:20260424T085048
CREATED:20151201T115843Z
LAST-MODIFIED:20151201T115843Z
UID:19382-1448974800-1448978400@www.alhabibahmadnoveljindan.org
SUMMARY:Maulid Agung Masjid Arab Petukangan
DESCRIPTION:Perayaan Maulid Nabi Besar Muhammad SAW diMasjid Arab Petukangan – Acara Untuk Umum
URL:https://www.alhabibahmadnoveljindan.org/event/maulid-agung-masjid-arab-petukangan/
LOCATION:Masjid Arab Petukangan\, Jl. Sabar Petukangan Selatan\, Jakarta Selatan\, DKI Jakarta\, Indonesia
END:VEVENT
END:VCALENDAR