BEGIN:VCALENDAR
VERSION:2.0
PRODID:-//Al Habib Ahmad bin Novel bin Salim Jindan - ECPv5.16.1.1//NONSGML v1.0//EN
CALSCALE:GREGORIAN
METHOD:PUBLISH
X-WR-CALNAME:Al Habib Ahmad bin Novel bin Salim Jindan
X-ORIGINAL-URL:https://www.alhabibahmadnoveljindan.org
X-WR-CALDESC:Events for Al Habib Ahmad bin Novel bin Salim Jindan
BEGIN:VTIMEZONE
TZID:Asia/Krasnoyarsk
BEGIN:STANDARD
TZOFFSETFROM:+0700
TZOFFSETTO:+0700
TZNAME:+07
DTSTART:20150101T000000
END:STANDARD
END:VTIMEZONE
BEGIN:VEVENT
DTSTART;TZID=Asia/Krasnoyarsk:20151221T200000
DTEND;TZID=Asia/Krasnoyarsk:20151221T230000
DTSTAMP:20260426T072542
CREATED:20151107T055143Z
LAST-MODIFIED:20151107T055143Z
UID:19171-1450728000-1450738800@www.alhabibahmadnoveljindan.org
SUMMARY:Maulid Agung Ma'had Ribath Nurul Hidayah
DESCRIPTION:Maulid Agung Ma’had ribathnurulhidayah.org pimpinan Alhabib Soleh bin Ali Al Attas
URL:https://www.alhabibahmadnoveljindan.org/event/maulid-agung-mahad-ribath-nurul-hidayah/
LOCATION:Ma’had Ribath Nurul Hidayah\, Bedug Pangkah \, Tegal\, Jawa Tengah\, Indonesia
END:VEVENT
END:VCALENDAR