BEGIN:VCALENDAR
VERSION:2.0
PRODID:-//Al Habib Ahmad bin Novel bin Salim Jindan - ECPv5.16.1.1//NONSGML v1.0//EN
CALSCALE:GREGORIAN
METHOD:PUBLISH
X-WR-CALNAME:Al Habib Ahmad bin Novel bin Salim Jindan
X-ORIGINAL-URL:https://www.alhabibahmadnoveljindan.org
X-WR-CALDESC:Events for Al Habib Ahmad bin Novel bin Salim Jindan
BEGIN:VTIMEZONE
TZID:Asia/Krasnoyarsk
BEGIN:STANDARD
TZOFFSETFROM:+0700
TZOFFSETTO:+0700
TZNAME:+07
DTSTART:20150101T000000
END:STANDARD
END:VTIMEZONE
BEGIN:VEVENT
DTSTART;TZID=Asia/Krasnoyarsk:20151212T190000
DTEND;TZID=Asia/Krasnoyarsk:20151212T210000
DTSTAMP:20260425T052839
CREATED:20151107T031901Z
LAST-MODIFIED:20151201T105320Z
UID:19153-1449946800-1449954000@www.alhabibahmadnoveljindan.org
SUMMARY:Maulid Agung di Kediaman Alm. H. Umar
DESCRIPTION:Maulid Agung di Kediaman Alm. H. Umar
URL:https://www.alhabibahmadnoveljindan.org/event/maulid-agung-di-kediaman-alm-h-umar/
LOCATION:Kediaman H. Umar\, Pondok Bambu\, Jakarta Timur\, DKI Jakarta\, Indonesia
END:VEVENT
END:VCALENDAR