BEGIN:VCALENDAR
VERSION:2.0
PRODID:-//Al Habib Ahmad bin Novel bin Salim Jindan - ECPv5.16.1.1//NONSGML v1.0//EN
CALSCALE:GREGORIAN
METHOD:PUBLISH
X-WR-CALNAME:Al Habib Ahmad bin Novel bin Salim Jindan
X-ORIGINAL-URL:https://www.alhabibahmadnoveljindan.org
X-WR-CALDESC:Events for Al Habib Ahmad bin Novel bin Salim Jindan
BEGIN:VTIMEZONE
TZID:Asia/Krasnoyarsk
BEGIN:STANDARD
TZOFFSETFROM:+0800
TZOFFSETTO:+0700
TZNAME:+07
DTSTART:20141025T180000
END:STANDARD
END:VTIMEZONE
BEGIN:VEVENT
DTSTART;TZID=Asia/Krasnoyarsk:20141101T190000
DTEND;TZID=Asia/Krasnoyarsk:20141101T203000
DTSTAMP:20260423T192153
CREATED:20141031T130050Z
LAST-MODIFIED:20141031T130050Z
UID:15578-1414868400-1414873800@www.alhabibahmadnoveljindan.org
SUMMARY:Majelis Gabungan Al Habib Ahmad bin Novel bin Jindan
DESCRIPTION:Kajian As Sirah An Nabawiyah oleh Al Habib Ahmad bin Novel bin Jindan dan ceramah umum oleh para ulama – untuk laki-laki dan perempuan
URL:https://www.alhabibahmadnoveljindan.org/event/majelis-gabungan-al-habib-ahmad-bin-novel-bin-jindan-6/
LOCATION:Musholah Al Hurriyah\, Jl. Kebon Nanas Selatan 1 Gang AsSalafie\, Jakarta Timur\, DKI Jakarta\, Indonesia
END:VEVENT
END:VCALENDAR