BEGIN:VCALENDAR
VERSION:2.0
PRODID:-//Al Habib Ahmad bin Novel bin Salim Jindan - ECPv5.16.1.1//NONSGML v1.0//EN
CALSCALE:GREGORIAN
METHOD:PUBLISH
X-WR-CALNAME:Al Habib Ahmad bin Novel bin Salim Jindan
X-ORIGINAL-URL:https://www.alhabibahmadnoveljindan.org
X-WR-CALDESC:Events for Al Habib Ahmad bin Novel bin Salim Jindan
BEGIN:VTIMEZONE
TZID:Asia/Krasnoyarsk
BEGIN:STANDARD
TZOFFSETFROM:+0700
TZOFFSETTO:+0700
TZNAME:+07
DTSTART:20150101T000000
END:STANDARD
END:VTIMEZONE
BEGIN:VEVENT
DTSTART;TZID=Asia/Krasnoyarsk:20151107T191500
DTEND;TZID=Asia/Krasnoyarsk:20151107T203000
DTSTAMP:20260422T215451
CREATED:20151104T235801Z
LAST-MODIFIED:20151105T000657Z
UID:19133-1446923700-1446928200@www.alhabibahmadnoveljindan.org
SUMMARY:Majelis As Siirah An Nabawiyah
DESCRIPTION:Pembahasan kitab Maulid Ad Diyaul Lami serta Sirah Nabawiyah oleh Alhabib Ahmad bin Novel bin Jindan Acara Untuk Umum Laki-laki & Perempuan Untuk Informasi: Ust Firdaus (021)71050876 / WA 089614735559 Invite pin BB Majlis Gabungan 26633ffd – Live Radio Streaming:\n1. Radio Alfachriyah www.alhabibahmadnoveljindan.org & http://www.alfachriyah.org/radio-streaming/ untuk bb & ipad di : http://radio.alfachriyah.org:8000/alfachriyah\nuntuk android dapat dipasang aplikasi ‘alfachriyah radio’ melalui app store searching “alfachriyah” \n2. Radio Daarussalafie www.daarussalafie.org Bb: http://audio.aswajacenter.com:8888/;stream.mp3 iphone : http://audio.aswajacenter.com:8888/listen.pls\nDan dapat diakses melalui aplikasi erdioo dgn searching “daarussalafie” Untuk android dapat di pasang aplikasi ‘Daarussalafie Radio’ melalui app store dengan searching “Daarussalafie Radio”
URL:https://www.alhabibahmadnoveljindan.org/event/majelis-as-siirah-an-nabawiyah-4/
LOCATION:Qubbah Al Habib Abdurahman bin Abdullah Al Habsyi Cikini\, jalan inspeksi kali ciliwung menteng\, DKI Jakarta\, 10350\, Indonesia
END:VEVENT
END:VCALENDAR