BEGIN:VCALENDAR
VERSION:2.0
PRODID:-//Al Habib Ahmad bin Novel bin Salim Jindan - ECPv5.16.1.1//NONSGML v1.0//EN
CALSCALE:GREGORIAN
METHOD:PUBLISH
X-WR-CALNAME:Al Habib Ahmad bin Novel bin Salim Jindan
X-ORIGINAL-URL:https://www.alhabibahmadnoveljindan.org
X-WR-CALDESC:Events for Al Habib Ahmad bin Novel bin Salim Jindan
BEGIN:VTIMEZONE
TZID:Asia/Krasnoyarsk
BEGIN:STANDARD
TZOFFSETFROM:+0700
TZOFFSETTO:+0700
TZNAME:+07
DTSTART:20150101T000000
END:STANDARD
END:VTIMEZONE
BEGIN:VEVENT
DTSTART;TZID=Asia/Krasnoyarsk:20151212T153000
DTEND;TZID=Asia/Krasnoyarsk:20151212T213000
DTSTAMP:20260425T040345
CREATED:20151206T073707Z
LAST-MODIFIED:20151206T080458Z
UID:19500-1449934200-1449955800@www.alhabibahmadnoveljindan.org
SUMMARY:Daurah Kajian Fiqih Tahawulat
DESCRIPTION:KAJIAN FIQIH TAHAWWULAT TANDA-TANDA HARI KIAMAT DAN BAGAIMANA MENYIKAPINYA \n\nNara sumber:\n1- Asy Syeikh Saamih Al Kuhali dari Aden Yaman\n2- Al Habib Ahmad bin Novel bin Jindan \nAcara Untuk Umum  Laki-laki dan Perempuan \nKlik Disini untuk Pendaftaran dan Unduh Materi
URL:https://www.alhabibahmadnoveljindan.org/event/kajian-fiqih-tahawwulat/
LOCATION:Masjid Jami Asy-Syakirin\, alan Raya Inspeksi Saluran Kali Malang (Cipinang Bali 1) RT02 RW13 Kel. – Cipinang Muara – Kec. Jatinegara\, Jakarta Timur\, DKI Jakarta\, Indonesia
ATTACH;FMTTYPE=image/jpeg:https://www.alhabibahmadnoveljindan.org/wp-content/uploads/2015/12/dauroh_fiqh_tahawwulat_580x280.jpg
END:VEVENT
END:VCALENDAR