BEGIN:VCALENDAR
VERSION:2.0
PRODID:-//Al Habib Ahmad bin Novel bin Salim Jindan - ECPv5.16.1.1//NONSGML v1.0//EN
CALSCALE:GREGORIAN
METHOD:PUBLISH
X-WR-CALNAME:Al Habib Ahmad bin Novel bin Salim Jindan
X-ORIGINAL-URL:https://www.alhabibahmadnoveljindan.org
X-WR-CALDESC:Events for Al Habib Ahmad bin Novel bin Salim Jindan
BEGIN:VTIMEZONE
TZID:Asia/Krasnoyarsk
BEGIN:STANDARD
TZOFFSETFROM:+0800
TZOFFSETTO:+0700
TZNAME:+07
DTSTART:20141025T180000
END:STANDARD
END:VTIMEZONE
BEGIN:VEVENT
DTSTART;TZID=Asia/Krasnoyarsk:20141103T200000
DTEND;TZID=Asia/Krasnoyarsk:20141103T220000
DTSTAMP:20260423T131838
CREATED:20141015T103438Z
LAST-MODIFIED:20141015T125357Z
UID:14868-1415044800-1415052000@www.alhabibahmadnoveljindan.org
SUMMARY:Jalsatul Itsnain
DESCRIPTION:Kajian Kitab Risalatul Jamiah oleh Alhabib Ahmad bin Novel bin Jindan – Untuk Umum Laki dan Perempuan
URL:https://www.alhabibahmadnoveljindan.org/event/jalsatul-isnain-3/
LOCATION:Masjid Al Munawar\, Jalan Raya Psr Minggu\, Jakarta Selatan \, DKI Jakarta\, 12780\, Indonesia
END:VEVENT
END:VCALENDAR