BEGIN:VCALENDAR
VERSION:2.0
PRODID:-//Al Habib Ahmad bin Novel bin Salim Jindan - ECPv5.16.1.1//NONSGML v1.0//EN
CALSCALE:GREGORIAN
METHOD:PUBLISH
X-WR-CALNAME:Al Habib Ahmad bin Novel bin Salim Jindan
X-ORIGINAL-URL:https://www.alhabibahmadnoveljindan.org
X-WR-CALDESC:Events for Al Habib Ahmad bin Novel bin Salim Jindan
BEGIN:VTIMEZONE
TZID:Asia/Krasnoyarsk
BEGIN:STANDARD
TZOFFSETFROM:+0800
TZOFFSETTO:+0700
TZNAME:+07
DTSTART:20141025T180000
END:STANDARD
END:VTIMEZONE
BEGIN:VEVENT
DTSTART;TZID=Asia/Krasnoyarsk:20141108T100000
DTEND;TZID=Asia/Krasnoyarsk:20141108T100000
DTSTAMP:20260423T062222
CREATED:20141106T095847Z
LAST-MODIFIED:20141106T100121Z
UID:15707-1415440800-1415440800@www.alhabibahmadnoveljindan.org
SUMMARY:Dauroh Sejarah & Renungan Hijrah Rasulullah SAW
DESCRIPTION:Dauroh Sejarah & Renungan Hijrah Rasulullah SAW Bersama Al Habib Ahmad bin Novel bin Jindan Acara Untuk Laki-laki dan Perempuan
URL:https://www.alhabibahmadnoveljindan.org/event/dauroh-sejarah-renungan-hijrah-rasulullah-saw/
LOCATION:Qubbah Al Habib Abdurahman bin Abdullah Al Habsyi Cikini\, jalan inspeksi kali ciliwung menteng\, DKI Jakarta\, 10350\, Indonesia
END:VEVENT
END:VCALENDAR