BEGIN:VCALENDAR
VERSION:2.0
PRODID:-//Al Habib Ahmad bin Novel bin Salim Jindan - ECPv5.16.1.1//NONSGML v1.0//EN
CALSCALE:GREGORIAN
METHOD:PUBLISH
X-WR-CALNAME:Al Habib Ahmad bin Novel bin Salim Jindan
X-ORIGINAL-URL:https://www.alhabibahmadnoveljindan.org
X-WR-CALDESC:Events for Al Habib Ahmad bin Novel bin Salim Jindan
BEGIN:VTIMEZONE
TZID:Asia/Krasnoyarsk
BEGIN:STANDARD
TZOFFSETFROM:+0700
TZOFFSETTO:+0700
TZNAME:+07
DTSTART:20150101T000000
END:STANDARD
END:VTIMEZONE
BEGIN:VEVENT
DTSTART;TZID=Asia/Krasnoyarsk:20150523T152500
DTEND;TZID=Asia/Krasnoyarsk:20150523T230000
DTSTAMP:20260422T013837
CREATED:20150509T230335Z
LAST-MODIFIED:20150509T230335Z
UID:18032-1432394700-1432422000@www.alhabibahmadnoveljindan.org
SUMMARY:Dauroh Nisfu Sya'ban & Menyambut Ramadhan
DESCRIPTION:Dauroh Nisfu Sya’ban & Menyambut Ramadhan oleh Al Habib Ahmad bin Novel bin Jindan
URL:https://www.alhabibahmadnoveljindan.org/event/dauroh-nisfu-syaban-menyambut-ramadhan/
LOCATION:Masjid At-Taubah Makam Kramat Habib Kuncung\, Jl. Rawa Jati Timur 2 Pancoran\, Jakarta Selatan\, 12750\, Indonesia
END:VEVENT
END:VCALENDAR